BEGIN:VCALENDAR
VERSION:2.0
PRODID:-//e4ds.com//webinar//EN
BEGIN:VEVENT
UID:20260618T000000Z64878
SUMMARY:[e4ds webinar] 고정밀 아날로그 회로 설계 실습 교육 - 저잡음/저전력 회로 이해 및 고급 응용 회로 설계
DTSTART:20260618T000000Z
DTEND:20260618T080000Z
DESCRIPTION:/webinar_detail.asp?idx=1000
END:VEVENT
END:VCALENDAR