BEGIN:VCALENDAR
VERSION:2.0
PRODID:-//e4ds.com//webinar//EN
BEGIN:VEVENT
UID:20131112T013000Z76440
SUMMARY:[e4ds webinar] 임베디드 레이더 기술을 통한 자동차 안전 향상
DTSTART:20131112T013000Z
DTEND:20131112T040000Z
DESCRIPTION:/webinar_detail.asp?idx=153
END:VEVENT
END:VCALENDAR