BEGIN:VCALENDAR
VERSION:2.0
PRODID:-//e4ds.com//webinar//EN
BEGIN:VEVENT
UID:20160511T233000Z49169
SUMMARY:[e4ds webinar] 머신 상태 모니터링 및 진단을 위한 IoT 시스템 구축으로 철강산업의 New technology를 확인하세요!
DTSTART:20160511T233000Z
DTEND:20160512T033000Z
DESCRIPTION:/webinar_detail.asp?idx=286
END:VEVENT
END:VCALENDAR