BEGIN:VCALENDAR
VERSION:2.0
PRODID:-//e4ds.com//webinar//EN
BEGIN:VEVENT
UID:20180308T013000Z72860
SUMMARY:[e4ds webinar] 모터앤드라이브 시스템의 관리방법 및 측정 솔루션
DTSTART:20180308T013000Z
DTEND:20180308T025000Z
DESCRIPTION:/webinar_detail.asp?idx=425
END:VEVENT
END:VCALENDAR