BEGIN:VCALENDAR
VERSION:2.0
PRODID:-//e4ds.com//webinar//EN
BEGIN:VEVENT
UID:20180920T013000Z70611
SUMMARY:[e4ds webinar] Part1. ARM Cortex-M0 개발을 위한 기본이론 강의
DTSTART:20180920T013000Z
DTEND:20180920T031000Z
DESCRIPTION:/webinar_detail.asp?idx=476
END:VEVENT
END:VCALENDAR