BEGIN:VCALENDAR
VERSION:2.0
PRODID:-//e4ds.com//webinar//EN
BEGIN:VEVENT
UID:20181122T013000Z84930
SUMMARY:[e4ds webinar] 압력 교정의 기본이론 및 압력 교정 장비의 활용
DTSTART:20181122T013000Z
DTEND:20181122T025700Z
DESCRIPTION:/webinar_detail.asp?idx=493
END:VEVENT
END:VCALENDAR