BEGIN:VCALENDAR
VERSION:2.0
PRODID:-//e4ds.com//webinar//EN
BEGIN:VEVENT
UID:20190509T013000Z72475
SUMMARY:[e4ds webinar] 전도성 EMI 개선 대책 (Fail이 발생했다면?!)
DTSTART:20190509T013000Z
DTEND:20190509T024500Z
DESCRIPTION:/webinar_detail.asp?idx=520
END:VEVENT
END:VCALENDAR