BEGIN:VCALENDAR
VERSION:2.0
PRODID:-//e4ds.com//webinar//EN
BEGIN:VEVENT
UID:20190711T013000Z39950
SUMMARY:[e4ds webinar] STM32 전원제어 및 배터리 충전 기술
DTSTART:20190711T013000Z
DTEND:20190711T030000Z
DESCRIPTION:/webinar_detail.asp?idx=531
END:VEVENT
END:VCALENDAR