BEGIN:VCALENDAR
VERSION:2.0
PRODID:-//e4ds.com//webinar//EN
BEGIN:VEVENT
UID:20191119T013000Z76661
SUMMARY:[e4ds webinar] STM32MP1 Microprocessor - 새로운 차원의 STM32
DTSTART:20191119T013000Z
DTEND:20191119T025000Z
DESCRIPTION:/webinar_detail.asp?idx=578
END:VEVENT
END:VCALENDAR