BEGIN:VCALENDAR
VERSION:2.0
PRODID:-//e4ds.com//webinar//EN
BEGIN:VEVENT
UID:20220315T013000Z65873
SUMMARY:[e4ds webinar] 보안의 중요성 및 쉽고 빠른 IoT 설계의 시작
DTSTART:20220315T013000Z
DTEND:20220315T030000Z
DESCRIPTION:/webinar_detail.asp?idx=718
END:VEVENT
END:VCALENDAR