BEGIN:VCALENDAR
VERSION:2.0
PRODID:-//e4ds.com//webinar//EN
BEGIN:VEVENT
UID:20240521T013000Z79027
SUMMARY:[e4ds webinar] 무선기기의 필수 기술, RF 시스템과 RFFE 구성 요소 및 동작 원리에 대한 이해
DTSTART:20240521T013000Z
DTEND:20240521T030000Z
DESCRIPTION:/webinar_detail.asp?idx=865
END:VEVENT
END:VCALENDAR