BEGIN:VCALENDAR
VERSION:2.0
PRODID:-//e4ds.com//webinar//EN
BEGIN:VEVENT
UID:20260113T013000Z46577
SUMMARY:[e4ds webinar] 차세대 전력반도체 핵심 기술 – SiC와 GaN이 이끄는 전력 혁신
DTSTART:20260113T013000Z
DTEND:20260113T030000Z
DESCRIPTION:/webinar_detail.asp?idx=960
END:VEVENT
END:VCALENDAR