BEGIN:VCALENDAR
VERSION:2.0
PRODID:-//e4ds.com//webinar//EN
BEGIN:VEVENT
UID:20260416T013000Z46570
SUMMARY:[e4ds webinar] 실리콘의 한계를 넘는 압도적 효율 ST SiC 솔루션: EV에서 AI 데이터센터까지
DTSTART:20260416T013000Z
DTEND:20260416T030000Z
DESCRIPTION:/webinar_detail.asp?idx=991
END:VEVENT
END:VCALENDAR